BEGIN:VCALENDAR
VERSION:2.0
PRODID:spatie/icalendar-generator
NAME:Westlake Athletic Booster Club Calendar
X-WR-CALNAME:Westlake Athletic Booster Club Calendar
REFRESH-INTERVAL;VALUE=DURATION:PT30M
X-PUBLISHED-TTL:PT30M
BEGIN:VTIMEZONE
TZID:America/New_York
BEGIN:STANDARD
DTSTART:20251102T010000
TZOFFSETFROM:-0400
TZOFFSETTO:-0500
END:STANDARD
BEGIN:DAYLIGHT
DTSTART:20260308T010000
TZOFFSETFROM:-0500
TZOFFSETTO:-0400
END:DAYLIGHT
BEGIN:STANDARD
DTSTART:20261101T010000
TZOFFSETFROM:-0400
TZOFFSETTO:-0500
END:STANDARD
END:VTIMEZONE
BEGIN:VTIMEZONE
TZID:UTC
BEGIN:STANDARD
DTSTART:20250726T140443
TZOFFSETFROM:+0000
TZOFFSETTO:+0000
END:STANDARD
END:VTIMEZONE
BEGIN:VEVENT
UID:event-618850@westlakeathleticboosterclub.boosterhub.com
DTSTAMP:20260422T140443Z
SUMMARY:WAC Golf Outing
DESCRIPTION:
LOCATION:Knollwood Country Club
X-MICROSOFT-CDO-ALLDAYEVENT:TRUE
DTSTART;TZID=America/New_York;VALUE=DATE:20260511
DTEND;TZID=America/New_York;VALUE=DATE:20260512
END:VEVENT
BEGIN:VEVENT
UID:event-827478@westlakeathleticboosterclub.boosterhub.com
DTSTAMP:20260422T140443Z
SUMMARY:BOE Meeting
DESCRIPTION:
LOCATION:WHS/WMS Library
DTSTART;TZID=America/New_York:20260421T193000
DTEND;TZID=America/New_York:20260421T210000
END:VEVENT
BEGIN:VEVENT
UID:event-827479@westlakeathleticboosterclub.boosterhub.com
DTSTAMP:20260422T140443Z
SUMMARY:WAC Meeting
DESCRIPTION:
LOCATION:WHS Senior Cafeteria
DTSTART;TZID=America/New_York:20260505T190000
DTEND;TZID=America/New_York:20260505T200000
END:VEVENT
BEGIN:VEVENT
UID:event-827480@westlakeathleticboosterclub.boosterhub.com
DTSTAMP:20260422T140443Z
SUMMARY:WAC Meeting
DESCRIPTION:
LOCATION:WHS Senior Cafeteria
DTSTART;TZID=America/New_York:20260602T190000
DTEND;TZID=America/New_York:20260602T200000
END:VEVENT
BEGIN:VEVENT
UID:event-827481@westlakeathleticboosterclub.boosterhub.com
DTSTAMP:20260422T140443Z
SUMMARY:Varsity Awards Night
DESCRIPTION:
LOCATION:WHS Auditorium
DTSTART;TZID=America/New_York:20260615T180000
DTEND;TZID=America/New_York:20260615T200000
END:VEVENT
BEGIN:VEVENT
UID:event-827482@westlakeathleticboosterclub.boosterhub.com
DTSTAMP:20260422T140443Z
SUMMARY:Juneteenth - School Closed
DESCRIPTION:
LOCATION:
X-MICROSOFT-CDO-ALLDAYEVENT:TRUE
DTSTART;TZID=America/New_York;VALUE=DATE:20260619
DTEND;TZID=America/New_York;VALUE=DATE:20260620
END:VEVENT
BEGIN:VEVENT
UID:event-827483@westlakeathleticboosterclub.boosterhub.com
DTSTAMP:20260422T140443Z
SUMMARY:WHS Graduation
DESCRIPTION:
LOCATION:
X-MICROSOFT-CDO-ALLDAYEVENT:TRUE
DTSTART;TZID=America/New_York;VALUE=DATE:20260626
DTEND;TZID=America/New_York;VALUE=DATE:20260627
END:VEVENT
END:VCALENDAR